BEGIN:VCALENDAR
VERSION:2.0
PRODID:-//Naturheilpraxis Juliane Henze - ECPv6.6.1//NONSGML v1.0//EN
CALSCALE:GREGORIAN
METHOD:PUBLISH
X-ORIGINAL-URL:https://naturheilpraxis-juliane-henze.de
X-WR-CALDESC:Veranstaltungen für Naturheilpraxis Juliane Henze
REFRESH-INTERVAL;VALUE=DURATION:PT1H
X-Robots-Tag:noindex
X-PUBLISHED-TTL:PT1H
BEGIN:VTIMEZONE
TZID:Europe/Berlin
BEGIN:DAYLIGHT
TZOFFSETFROM:+0100
TZOFFSETTO:+0200
TZNAME:CEST
DTSTART:20250330T010000
END:DAYLIGHT
BEGIN:STANDARD
TZOFFSETFROM:+0200
TZOFFSETTO:+0100
TZNAME:CET
DTSTART:20251026T010000
END:STANDARD
END:VTIMEZONE
BEGIN:VEVENT
DTSTART;TZID=Europe/Berlin:20251129T100000
DTEND;TZID=Europe/Berlin:20251129T160000
DTSTAMP:20260421T012844
CREATED:20240528T143929Z
LAST-MODIFIED:20250104T185207Z
UID:1100-1764410400-1764432000@naturheilpraxis-juliane-henze.de
SUMMARY:Wildkräutertag im Wandel der Jahreszeiten „Winter – Wurzeln\, Harze\, Rinden\, Pilze“
DESCRIPTION:Die Verwendung von wilden Kräutern in Küche und Hausapotheke hat eine lange Tradition und ist tief in uns Menschen verwurzelt.  \n\n\n\nAn den Wildkräutertagen begeben wir uns gemeinsam auf eine Entdeckungsreise. Wir spazieren durch Wald und Wiese und schauen\, welche Wesen aus der Pflanzenwelt uns begegnen. Dabei wirst du spannende Geschichten zu den Pflanzen hören und ihre Wirkungsweise und Anwendung theoretisch und praktisch mit allen Sinnen kennenlernen. \n\n\n\nIch zeige dir verschiedene Wege\, wie du mit Heilpflanzen Kontakt aufnehmen kannst\, z.B. über eine geführte Pflanzenmeditation. Am Nachmittag stellen wir Salbe\, Tinktur\, Hustenbalsam\, Kräutersalz oder Naturkosmetik her (je nachdem\, was uns die Natur an diesem Tag schenkt)\, die du mit nach Hause nehmen kannst. Das sind auch schöne Geschenke für deine Lieben. \n\n\n\nBitte mitbringen: Wetterfeste Kleidung und gutes SchuhwerkEine Kleinigkeit für das gemeinsame Mittagsbuffet und ein kleines Einweckglas für Salbe/ Tinktur \n\n\n\nAnmeldung und Informationen: Mail: kontakt@naturheilpraxis-juliane-henze.deTel.: 0179-1032087
URL:https://naturheilpraxis-juliane-henze.de/event/wildkraeutertage-im-wandel-der-jahreszeiten-winter-wurzeln-harze-rinden-pilze/
LOCATION:Kranepuhl / Planetal
ATTACH;FMTTYPE=image/jpeg:https://naturheilpraxis-juliane-henze.de/wp-content/uploads/2024/05/Harz-e1728477162929.jpg
END:VEVENT
BEGIN:VEVENT
DTSTART;TZID=Europe/Berlin:20251107T170000
DTEND;TZID=Europe/Berlin:20251107T200000
DTSTAMP:20260421T012844
CREATED:20250104T200339Z
LAST-MODIFIED:20250104T211832Z
UID:2151-1762534800-1762545600@naturheilpraxis-juliane-henze.de
SUMMARY:Zauberkräuter – Magie der Wildkräuter
DESCRIPTION:Wildkräuter faszinieren seit Jahrtausenden nicht nur durch ihre Heilkräfte\, sondern auch durch ihre symbolische und spirituelle Bedeutung.  \n\n\n\nIn diesem Seminar erfährst du\, wie du die Energie und Magie der Kräuter nutzen kannst\, um Körper\, Geist und Seele zu stärken und deine Verbindung zur Natur zu vertiefen. \n\n\n\nLerne die mystische Seite der Wildkräuter kennen: \n\n\n\nMagie und Symbolik der Wildkräuter: Geschichten\, Mythen und Überlieferungen zu Pflanzen wie Beifuß\, Salbei\, Johanniskraut\, Rosmarin und Holunder. \n\n\n\nEnergetische Bedeutung: Wie Kräuter mit den Elementen Erde\, Wasser\, Feuer\, Luft in Verbindung stehen und diese Energien aktivieren. \n\n\n\nDu stellst dein eigenes Schutzbündel oder eine individuelle Räuchermischung her. \n\n\n\nAnmeldung und Informationen: Mail: kontakt@naturheilpraxis-juliane-henze.deTel.: 0179-1032087
URL:https://naturheilpraxis-juliane-henze.de/event/zauberkraeuter/
LOCATION:Kranepuhl / Planetal
ATTACH;FMTTYPE=image/jpeg:https://naturheilpraxis-juliane-henze.de/wp-content/uploads/2025/01/Naturheilpraxis-JH-Feedbeitraege28-e1736021238967.jpg
END:VEVENT
BEGIN:VEVENT
DTSTART;TZID=Europe/Berlin:20251010T170000
DTEND;TZID=Europe/Berlin:20251010T200000
DTSTAMP:20260421T012844
CREATED:20250104T204827Z
LAST-MODIFIED:20250104T204828Z
UID:2158-1760115600-1760126400@naturheilpraxis-juliane-henze.de
SUMMARY:Die Heilkraft der Vitalpilze
DESCRIPTION:Vitalpilze wie Reishi\, Chaga\, Shiitake und Cordyceps sind wahre Schätze der Naturheilkunde. Sie stärken das Immunsystem\, fördern die Regeneration und unterstützen Körper und Geist bei den Herausforderungen des Alltags. \n\n\n\nDabei müssen wir nicht in die Ferne schauen. Auch in unseren heimischen Wäldern können wir Vitalpilze wie Schmetterlings-Tramete\, Birkenporling und mit etwas Glück sogar Chaga finden. \n\n\n\nIn diesem Seminar erfährst du\, wie du diese kraftvollen Pilze gezielt für dein Wohlbefinden einsetzen kannst. Du lernst einzelne Vitalpilze und ihre vielseitigen Wirkungen näher kennen\, erhälst Tipps zur Zubereitung von Tees\, Extrakten und Pulvern sowie Inspirationen dazu\, welche Pilze zu deinen persönlichen Gesundheitszielen passen. \n\n\n\nIch lade dich zu einer Verkostung von Vitalpilz-Tees und -Pulvern ein und zeige dir\, wie du eine kraftvolle Vitalpilz-Tinktur selbst herstellen kannst. \n\n\n\nAnmeldung und Informationen: Mail: kontakt@naturheilpraxis-juliane-henze.deTel.: 0179-1032087
URL:https://naturheilpraxis-juliane-henze.de/event/die-heilkraft-der-vitalpilze/
LOCATION:Kranepuhl / Planetal
ATTACH;FMTTYPE=image/jpeg:https://naturheilpraxis-juliane-henze.de/wp-content/uploads/2025/01/Naturheilpraxis-JH-Feedbeitraege29-e1736023694141.jpg
END:VEVENT
BEGIN:VEVENT
DTSTART;TZID=Europe/Berlin:20250913T100000
DTEND;TZID=Europe/Berlin:20250913T160000
DTSTAMP:20260421T012844
CREATED:20240528T143743Z
LAST-MODIFIED:20250104T185418Z
UID:1097-1757757600-1757779200@naturheilpraxis-juliane-henze.de
SUMMARY:Wildkräutertag im Wandel der Jahreszeiten „Herbst – Goldene Schätze\, Medizin“
DESCRIPTION:Die Verwendung von wilden Kräutern in Küche und Hausapotheke hat eine lange Tradition und ist tief in uns Menschen verwurzelt.  \n\n\n\nAn den Wildkräutertagen begeben wir uns gemeinsam auf eine Entdeckungsreise. Wir spazieren durch Wald und Wiese und schauen\, welche Wesen aus der Pflanzenwelt uns begegnen. Dabei wirst du spannende Geschichten zu den Pflanzen hören und ihre Wirkungsweise und Anwendung theoretisch und praktisch mit allen Sinnen kennenlernen. \n\n\n\nIch zeige dir verschiedene Wege\, wie du mit Heilpflanzen Kontakt aufnehmen kannst\, z.B. über eine geführte Pflanzenmeditation. Am Nachmittag stellen wir Salbe\, Tinktur\, Hustenbalsam\, Kräutersalz oder Naturkosmetik her (je nachdem\, was uns die Natur an diesem Tag schenkt)\, die du mit nach Hause nehmen kannst. Das sind auch schöne Geschenke für deine Lieben. \n\n\n\nBitte mitbringen: Wetterfeste Kleidung und gutes SchuhwerkEine Kleinigkeit für das gemeinsame Mittagsbuffet und ein kleines Einweckglas für Salbe/ Tinktur \n\n\n\nAnmeldung und Informationen: Mail: kontakt@naturheilpraxis-juliane-henze.deTel.: 0179-1032087
URL:https://naturheilpraxis-juliane-henze.de/event/wildkraeutertage-im-wandel-der-jahreszeiten-herbst-goldene-schaetze-medizin/
LOCATION:Kranepuhl / Planetal
ATTACH;FMTTYPE=image/jpeg:https://naturheilpraxis-juliane-henze.de/wp-content/uploads/2024/05/WhatsApp-Bild-2024-12-08-um-14.34.50_76a47578-1-e1733682159515.jpg
END:VEVENT
BEGIN:VEVENT
DTSTART;TZID=Europe/Berlin:20250718T170000
DTEND;TZID=Europe/Berlin:20250718T200000
DTSTAMP:20260421T012844
CREATED:20241208T162249Z
LAST-MODIFIED:20241208T182402Z
UID:2112-1752858000-1752868800@naturheilpraxis-juliane-henze.de
SUMMARY:Kosmische Signaturen – Planetenkräfte in den Heilpflanzen
DESCRIPTION:Wie sich die Kräfte der 7 Hauptplaneten in den Wildkräutern wiederspiegeln und wie du sie für dich nutzen kannst. \n\n\n\nIn der Pflanzenheilkunde gibt es seit Jahrhunderten eine faszinierende Verbindung zwischen Heilpflanzen und den Energien der Planeten. Dieses Wissen stammt aus alten Traditionen wie der Alchemie\, Spagyrik und astrologisch inspirierten Kräuterkunde. \n\n\n\nIch lade dich ein\, bei diesem Workshop in die Welt der Planetenkräfte einzutauchen und zu erfahren\, wie sie dich auf körperlicher\, emotionaler und spiritueller Ebene unterstützen können. \n\n\n\nDas Arbeiten mit Planetenkräften in Heilpflanzen ist eine wunderbare Möglichkeit\, dich mit den kosmischen Rhythmen zu verbinden. Dieses alte Wissen kann dich dazu inspirieren\, die Natur um dich herum mit neuen Augen zu sehen – als Spiegel des Universums in dir selbst. \n\n\n\nAnmeldung und Informationen: Mail: kontakt@naturheilpraxis-juliane-henze.deTel.: 0179-1032087
URL:https://naturheilpraxis-juliane-henze.de/event/entgiften-mit-wildkraeutern/
LOCATION:Kranepuhl / Planetal
ATTACH;FMTTYPE=image/jpeg:https://naturheilpraxis-juliane-henze.de/wp-content/uploads/2024/12/WhatsApp-Bild-2024-12-08-um-18.33.13_aaf2e330-1-e1733682236167.jpg
END:VEVENT
BEGIN:VEVENT
DTSTART;TZID=Europe/Berlin:20250704T100000
DTEND;TZID=Europe/Berlin:20250704T160000
DTSTAMP:20260421T012844
CREATED:20240528T125742Z
LAST-MODIFIED:20250709T141119Z
UID:1032-1751623200-1751644800@naturheilpraxis-juliane-henze.de
SUMMARY:Wildkräutertag im Wandel der Jahreszeiten „Sommer – Heilkraft\, Schönheit\, Fülle“
DESCRIPTION:Die Verwendung von wilden Kräutern in Küche und Hausapotheke hat eine lange Tradition und ist tief in uns Menschen verwurzelt.  \n\n\n\nAn den Wildkräutertagen begeben wir uns gemeinsam auf eine Entdeckungsreise. Wir spazieren durch Wald und Wiese und schauen\, welche Wesen aus der Pflanzenwelt uns begegnen. Dabei wirst du spannende Geschichten zu den Pflanzen hören und ihre Wirkungsweise und Anwendung theoretisch und praktisch mit allen Sinnen kennenlernen. \n\n\n\nIch zeige dir verschiedene Wege\, wie du mit Heilpflanzen Kontakt aufnehmen kannst\, z.B. über eine geführte Pflanzenmeditation. Am Nachmittag stellen wir Salbe\, Tinktur\, Hustenbalsam\, Kräutersalz oder Naturkosmetik her (je nachdem\, was uns die Natur an diesem Tag schenkt)\, die du mit nach Hause nehmen kannst. Das sind auch schöne Geschenke für deine Lieben. \n\n\n\nBitte mitbringen: Wetterfeste Kleidung und gutes SchuhwerkEine Kleinigkeit für das gemeinsame Mittagsbuffet und ein kleines Einweckglas für Salbe/ Tinktur \n\n\n\nAnmeldung und Informationen: Mail: kontakt@naturheilpraxis-juliane-henze.deTel.: 0179-1032087
URL:https://naturheilpraxis-juliane-henze.de/event/wildkraeutertage-im-wandel-der-jahreszeiten-sommer-heilkraft-schoenheit-fuelle/
LOCATION:Kranepuhl / Planetal
ATTACH;FMTTYPE=image/jpeg:https://naturheilpraxis-juliane-henze.de/wp-content/uploads/2024/05/WhatsApp-Bild-2024-12-08-um-14.50.58_4ba1f817-1-e1733682092148.jpg
END:VEVENT
BEGIN:VEVENT
DTSTART;TZID=Europe/Berlin:20250621T100000
DTEND;TZID=Europe/Berlin:20250621T160000
DTSTAMP:20260421T012844
CREATED:20241209T061837Z
LAST-MODIFIED:20241211T101843Z
UID:2130-1750500000-1750521600@naturheilpraxis-juliane-henze.de
SUMMARY:Sommersonnenwende – Wildkräuter\, Dankbarkeit\, Wachstum & Fülle
DESCRIPTION:Lass uns gemeinsam feiern! Mit Wildkräutern und Despacho. \n\n\n\nDie Sommersonnenwende markiert den längsten Tag des Jahres und hat eine reiche Tradition an Ritualen\, die auf die Verbindung mit der Natur\, das Licht und die spirituelle Erneuerung abzielen. \n\n\n\nBestimmte Wildkräuter\, die Johanniskräuter\, haben um die Zeit der Sonnenwende eine ganz besondere Heilkraft. Sie tragen das Licht der Sonne in sich. Gemeinsam sammeln wir sie und du lernst\, wie du einen Sonnwendbuschen und Rotöl herstellen kannst. \n\n\n\nEin besonders schönes Ritual für die Sommersonnenwende ist für mich ein Despacho. Es kommt ursprünglich aus den Anden und ist eine kraftvolle Möglichkeit\, Dankbarkeit auszudrücken und sich wieder mit der Natur und dem eigenen inneren Frieden zu verbinden. Am Nachmittag gestalten wir gemeinsam ein wunderschönes Despacho\, dass wir zum Abschluss dem Feuer oder Wasser übergeben werden. \n\n\n\nGemütliches Beisammensein im Garten am Feuer. \n\n\n\nBitte mitbringen: Wetterfeste Kleidung und gutes SchuhwerkEine Kleinigkeit für das gemeinsame Mittagsbuffet und ein kleines Einweckglas für das Öl \n\n\n\nAnmeldung und Informationen: Mail: kontakt@naturheilpraxis-juliane-henze.deTel.: 0179-1032087
URL:https://naturheilpraxis-juliane-henze.de/event/sommersonnenwende-wildkraeuter-dankbarkeit-wachstum-fuelle/
LOCATION:Kranepuhl / Planetal
ATTACH;FMTTYPE=image/jpeg:https://naturheilpraxis-juliane-henze.de/wp-content/uploads/2024/12/104-e1733725337483.jpg
END:VEVENT
BEGIN:VEVENT
DTSTART;TZID=Europe/Berlin:20250613T170000
DTEND;TZID=Europe/Berlin:20250613T200000
DTSTAMP:20260421T012844
CREATED:20240902T124339Z
LAST-MODIFIED:20250303T171101Z
UID:2006-1749834000-1749844800@naturheilpraxis-juliane-henze.de
SUMMARY:Frauenheilpflanzen & Homöopathie - überliefertes und bewährtes Wissen für Frauen
DESCRIPTION:Ein Workshop\, angefüllt mit uraltem Wissen. Immerfort weitergegeben von Mund zu Ohr\, von Frau zu Frau. Tauche mit mir in diesen Wissensschatz ein. \n\n\n\nDu lernst meine liebsten Frauenheilpflanzen\, ihre Erkennungsmerkmale\, Wirkungsweise und Anwendung kennen und bekommst von mir eine Sammlung mit bewährten Rezepten für häufige Indikationen in der Frauenheilkunde. Ergänzend dazu werfen wir einen Blick auf spannende homöopathische Mittel und ihre Möglichkeiten. \n\n\n\nWas interessiert dich persönlich besonders? Schicke mir deinen Wunsch zum Thema mit der Anmeldung per mail\, damit ich ihn aufgreifen und in den Workshop einpflechten kann. \n\n\n\nAnmeldung und Informationen: Mail: kontakt@naturheilpraxis-juliane-henze.deTel.: 0179-1032087
URL:https://naturheilpraxis-juliane-henze.de/event/frauenheilpflanzen-homoeopathie-ueberliefertes-und-bewaehrtes-wissen-fuer-frauen/
LOCATION:Kranepuhl / Planetal
ATTACH;FMTTYPE=image/jpeg:https://naturheilpraxis-juliane-henze.de/wp-content/uploads/2024/04/Naturheilpraxis_Juliane-Henze_Background.jpg
END:VEVENT
BEGIN:VEVENT
DTSTART;TZID=Europe/Berlin:20250523T170000
DTEND;TZID=Europe/Berlin:20250523T200000
DTSTAMP:20260421T012844
CREATED:20240902T110724Z
LAST-MODIFIED:20250303T170913Z
UID:1999-1748019600-1748030400@naturheilpraxis-juliane-henze.de
SUMMARY:Adaptogene – Pflanzliche Stresskiller und Kraftpakete
DESCRIPTION:Mehr Energie\, Gelassenheit\, Gesundheit und Schönheit für dich. \n\n\n\nHast du schonmal was von Rosenwurz\, Reishi\, Cordyceps & Co gehört?  \n\n\n\nAn diesem Abend begeben wir uns gemeinsam in die großartige Welt der Adaptogene. Diese Wunder der Natur helfen uns dabei \n\n\n\n\ndas Immunsystem zu stärken\n\n\n\nin stressigen Zeiten körperlich\, geistig und emotional stabil und ausgeglichen zu bleiben\n\n\n\nlangsamer zu altern\n\n\n\n\n \n\n\n\nWas sind Adaptogene? Was bewirken sie? Und wie können wir sie nutzen? \n\n\n\nIch zeige dir meine Favoriten und ihre Anwendungsmöglichkeiten. Du bekommst von mir einfach nachzumachende Rezepte\, mit denen du diese pflanzlichen Stresskiller und Kraftpakete leicht in den Alltag integrieren kannst. \n\n\n\nFür die Sinne gibt es kleine Kostproben. \n\n\n\nAnmeldung und Informationen: Mail: kontakt@naturheilpraxis-juliane-henze.deTel.: 0179-1032087
URL:https://naturheilpraxis-juliane-henze.de/event/adaptogene-pflanzliche-stresskiller-und-kraftpakete/
LOCATION:Kranepuhl / Planetal
ATTACH;FMTTYPE=image/jpeg:https://naturheilpraxis-juliane-henze.de/wp-content/uploads/2024/09/20240902_1204361-scaled.jpg
END:VEVENT
BEGIN:VEVENT
DTSTART;TZID=Europe/Berlin:20250329T100000
DTEND;TZID=Europe/Berlin:20250329T160000
DTSTAMP:20260421T012844
CREATED:20241208T135829Z
LAST-MODIFIED:20250104T185502Z
UID:2098-1743242400-1743264000@naturheilpraxis-juliane-henze.de
SUMMARY:Wildkräutertag im Wandel der Jahreszeiten „Frühling – Grünes Superfood“
DESCRIPTION:Die Verwendung von wilden Kräutern in Küche und Hausapotheke hat eine lange Tradition und ist tief in uns Menschen verwurzelt.  \n\n\n\nAn den Wildkräutertagen begeben wir uns gemeinsam auf eine Entdeckungsreise. Wir spazieren durch Wald und Wiese und schauen\, welche Wesen aus der Pflanzenwelt uns begegnen. Dabei wirst du spannende Geschichten zu den Pflanzen hören und ihre Wirkungsweise und Anwendung theoretisch und praktisch mit allen Sinnen kennenlernen. \n\n\n\nIch zeige dir verschiedene Wege\, wie du mit Heilpflanzen Kontakt aufnehmen kannst\, z.B. über eine geführte Pflanzenmeditation. Am Nachmittag stellen wir Salbe\, Tinktur\, Hustenbalsam\, Kräutersalz oder Naturkosmetik her (je nachdem\, was uns die Natur an diesem Tag schenkt)\, die du mit nach Hause nehmen kannst. Das sind auch schöne Geschenke für deine Lieben. \n\n\n\nBitte mitbringen: Wetterfeste Kleidung und gutes SchuhwerkEine Kleinigkeit für das gemeinsame Mittagsbuffet und ein kleines Einweckglas für Salbe/ Tinktur \n\n\n\nAnmeldung und Informationen: Mail: kontakt@naturheilpraxis-juliane-henze.deTel.: 0179-1032087
URL:https://naturheilpraxis-juliane-henze.de/event/wildkraeutertage-im-wandel-der-jahreszeiten-fruehling-gruenes-superfood/
LOCATION:Kranepuhl / Planetal
ATTACH;FMTTYPE=image/jpeg:https://naturheilpraxis-juliane-henze.de/wp-content/uploads/2024/12/WhatsApp-Bild-2024-12-08-um-14.51.44_8df776c8-2-e1733681737279.jpg
END:VEVENT
BEGIN:VEVENT
DTSTART;TZID=Europe/Berlin:20250322T100000
DTEND;TZID=Europe/Berlin:20250322T130000
DTSTAMP:20260421T012844
CREATED:20250303T170255Z
LAST-MODIFIED:20250303T171346Z
UID:2174-1742637600-1742648400@naturheilpraxis-juliane-henze.de
SUMMARY:Mit Wildkräutern sanft und effektiv Körper & Geist entgiften
DESCRIPTION:Welche Pflanzen wirken blutreinigend\, entschlackend und entgiftend? \n\n\n\nDie Entgiftung mit Wildkräutern ist eine sanfte Methode\, um den Körper von belastenden Stoffen zu befreien und das Wohlbefinden zu fördern. \n\n\n\nGanzheitliches Entgiften zielt darauf ab\, die Entgiftungsorgane wie Leber\, Niere\, Haut\, Darm\, Lunge und Lymphsystem zu unterstützen. \n\n\n\nBei diesem Workshop lernst du die verschiedenen ausleitenden Organe kennen und wie du sie in ihrer Aufgabe gezielt und effektiv unterstützen kannst – mit Wildkräutern\, begleitenden Lebensmitteln\, die die Entgiftung fördern und den Körper nähren sowie Tipps und Tricks aus der Praxis. \n\n\n\nIch zeige dir bewährte Wildkräuterkuren und wie du diese in deinen Alltag integrieren kannst. Lerne altes Heilwissen neu kennen und praktisch anwenden.  \n\n\n\nAnmeldung und Informationen: Mail: kontakt@naturheilpraxis-juliane-henze.deTel.: 0179-1032087
URL:https://naturheilpraxis-juliane-henze.de/event/mit-wildkraeutern-sanft-und-effektiv-koerper-geist-entgiften-copy/
LOCATION:Kranepuhl / Planetal
ATTACH;FMTTYPE=image/jpeg:https://naturheilpraxis-juliane-henze.de/wp-content/uploads/2024/12/WhatsApp-Bild-2024-12-08-um-17.32.30_dea18659-e1736016093240.jpg
END:VEVENT
END:VCALENDAR