BEGIN:VCALENDAR
VERSION:2.0
PRODID:-//Naturheilpraxis Juliane Henze - ECPv6.6.1//NONSGML v1.0//EN
CALSCALE:GREGORIAN
METHOD:PUBLISH
X-ORIGINAL-URL:https://naturheilpraxis-juliane-henze.de
X-WR-CALDESC:Veranstaltungen für Naturheilpraxis Juliane Henze
REFRESH-INTERVAL;VALUE=DURATION:PT1H
X-Robots-Tag:noindex
X-PUBLISHED-TTL:PT1H
BEGIN:VTIMEZONE
TZID:Europe/Berlin
BEGIN:DAYLIGHT
TZOFFSETFROM:+0100
TZOFFSETTO:+0200
TZNAME:CEST
DTSTART:20250330T010000
END:DAYLIGHT
BEGIN:STANDARD
TZOFFSETFROM:+0200
TZOFFSETTO:+0100
TZNAME:CET
DTSTART:20251026T010000
END:STANDARD
END:VTIMEZONE
BEGIN:VEVENT
DTSTART;TZID=Europe/Berlin:20251107T170000
DTEND;TZID=Europe/Berlin:20251107T200000
DTSTAMP:20260421T114310
CREATED:20250104T200339Z
LAST-MODIFIED:20250104T211832Z
UID:2151-1762534800-1762545600@naturheilpraxis-juliane-henze.de
SUMMARY:Zauberkräuter – Magie der Wildkräuter
DESCRIPTION:Wildkräuter faszinieren seit Jahrtausenden nicht nur durch ihre Heilkräfte\, sondern auch durch ihre symbolische und spirituelle Bedeutung.  \n\n\n\nIn diesem Seminar erfährst du\, wie du die Energie und Magie der Kräuter nutzen kannst\, um Körper\, Geist und Seele zu stärken und deine Verbindung zur Natur zu vertiefen. \n\n\n\nLerne die mystische Seite der Wildkräuter kennen: \n\n\n\nMagie und Symbolik der Wildkräuter: Geschichten\, Mythen und Überlieferungen zu Pflanzen wie Beifuß\, Salbei\, Johanniskraut\, Rosmarin und Holunder. \n\n\n\nEnergetische Bedeutung: Wie Kräuter mit den Elementen Erde\, Wasser\, Feuer\, Luft in Verbindung stehen und diese Energien aktivieren. \n\n\n\nDu stellst dein eigenes Schutzbündel oder eine individuelle Räuchermischung her. \n\n\n\nAnmeldung und Informationen: Mail: kontakt@naturheilpraxis-juliane-henze.deTel.: 0179-1032087
URL:https://naturheilpraxis-juliane-henze.de/event/zauberkraeuter/
LOCATION:Kranepuhl / Planetal
ATTACH;FMTTYPE=image/jpeg:https://naturheilpraxis-juliane-henze.de/wp-content/uploads/2025/01/Naturheilpraxis-JH-Feedbeitraege28-e1736021238967.jpg
END:VEVENT
END:VCALENDAR