BEGIN:VCALENDAR
VERSION:2.0
PRODID:-//Naturheilpraxis Juliane Henze - ECPv6.6.1//NONSGML v1.0//EN
CALSCALE:GREGORIAN
METHOD:PUBLISH
X-ORIGINAL-URL:https://naturheilpraxis-juliane-henze.de
X-WR-CALDESC:Veranstaltungen für Naturheilpraxis Juliane Henze
REFRESH-INTERVAL;VALUE=DURATION:PT1H
X-Robots-Tag:noindex
X-PUBLISHED-TTL:PT1H
BEGIN:VTIMEZONE
TZID:Europe/Berlin
BEGIN:DAYLIGHT
TZOFFSETFROM:+0100
TZOFFSETTO:+0200
TZNAME:CEST
DTSTART:20250330T010000
END:DAYLIGHT
BEGIN:STANDARD
TZOFFSETFROM:+0200
TZOFFSETTO:+0100
TZNAME:CET
DTSTART:20251026T010000
END:STANDARD
END:VTIMEZONE
BEGIN:VEVENT
DTSTART;TZID=Europe/Berlin:20250322T100000
DTEND;TZID=Europe/Berlin:20250322T130000
DTSTAMP:20260422T003101
CREATED:20250303T170255Z
LAST-MODIFIED:20250303T171346Z
UID:2174-1742637600-1742648400@naturheilpraxis-juliane-henze.de
SUMMARY:Mit Wildkräutern sanft und effektiv Körper & Geist entgiften
DESCRIPTION:Welche Pflanzen wirken blutreinigend\, entschlackend und entgiftend? \n\n\n\nDie Entgiftung mit Wildkräutern ist eine sanfte Methode\, um den Körper von belastenden Stoffen zu befreien und das Wohlbefinden zu fördern. \n\n\n\nGanzheitliches Entgiften zielt darauf ab\, die Entgiftungsorgane wie Leber\, Niere\, Haut\, Darm\, Lunge und Lymphsystem zu unterstützen. \n\n\n\nBei diesem Workshop lernst du die verschiedenen ausleitenden Organe kennen und wie du sie in ihrer Aufgabe gezielt und effektiv unterstützen kannst – mit Wildkräutern\, begleitenden Lebensmitteln\, die die Entgiftung fördern und den Körper nähren sowie Tipps und Tricks aus der Praxis. \n\n\n\nIch zeige dir bewährte Wildkräuterkuren und wie du diese in deinen Alltag integrieren kannst. Lerne altes Heilwissen neu kennen und praktisch anwenden.  \n\n\n\nAnmeldung und Informationen: Mail: kontakt@naturheilpraxis-juliane-henze.deTel.: 0179-1032087
URL:https://naturheilpraxis-juliane-henze.de/event/mit-wildkraeutern-sanft-und-effektiv-koerper-geist-entgiften-copy/
LOCATION:Kranepuhl / Planetal
ATTACH;FMTTYPE=image/jpeg:https://naturheilpraxis-juliane-henze.de/wp-content/uploads/2024/12/WhatsApp-Bild-2024-12-08-um-17.32.30_dea18659-e1736016093240.jpg
END:VEVENT
END:VCALENDAR